Package: PCAtools Version: 2.21.0 Command: /Library/Frameworks/R.framework/Resources/bin/R CMD INSTALL PCAtools StartedAt: 2025-10-05 15:28:38 -0400 (Sun, 05 Oct 2025) EndedAt: 2025-10-05 15:28:50 -0400 (Sun, 05 Oct 2025) EllapsedTime: 12.4 seconds RetCode: 0 Status: OK