Package: PCAtools Version: 2.21.0 Command: /Library/Frameworks/R.framework/Resources/bin/R CMD build --keep-empty-dirs --no-resave-data PCAtools StartedAt: 2025-10-05 17:21:11 -0400 (Sun, 05 Oct 2025) EndedAt: 2025-10-05 17:22:13 -0400 (Sun, 05 Oct 2025) EllapsedTime: 61.7 seconds RetCode: 1 Status: ERROR PackageFile: None PackageFileSize: NA