Package: PCAN Version: 1.37.0 Command: F:\biocbuild\bbs-3.22-bioc\R\bin\R.exe CMD check --no-multiarch --install=check:PCAN.install-out.txt --library=F:\biocbuild\bbs-3.22-bioc\R\library --no-vignettes --timings PCAN_1.37.0.tar.gz StartedAt: 2025-07-15 04:59:33 -0400 (Tue, 15 Jul 2025) EndedAt: 2025-07-15 05:04:18 -0400 (Tue, 15 Jul 2025) EllapsedTime: 285.7 seconds RetCode: 0 Status: OK CheckDir: PCAN.Rcheck Warnings: 0