Package: PCAN Version: 1.37.0 Command: chmod a+r PCAN -R && F:\biocbuild\bbs-3.22-bioc\R\bin\R.exe CMD build --keep-empty-dirs --no-resave-data PCAN StartedAt: 2025-07-14 21:05:35 -0400 (Mon, 14 Jul 2025) EndedAt: 2025-07-14 21:07:59 -0400 (Mon, 14 Jul 2025) EllapsedTime: 143.1 seconds RetCode: 0 Status: OK PackageFile: PCAN_1.37.0.tar.gz PackageFileSize: 2.177 MiB