Package: PCAN Version: 1.37.0 Command: rm -rf PCAN.buildbin-libdir && mkdir PCAN.buildbin-libdir && F:\biocbuild\bbs-3.22-bioc\R\bin\R.exe CMD INSTALL --build --library=PCAN.buildbin-libdir PCAN_1.37.0.tar.gz StartedAt: 2025-07-15 09:35:27 -0400 (Tue, 15 Jul 2025) EndedAt: 2025-07-15 09:35:47 -0400 (Tue, 15 Jul 2025) EllapsedTime: 20.2 seconds RetCode: 0 Status: OK PackageFile: PCAN_1.37.0.zip PackageFileSize: 2.236 MiB