Package: PCAN Version: 1.37.0 Command: /Library/Frameworks/R.framework/Resources/bin/R CMD INSTALL PCAN StartedAt: 2025-07-16 15:06:37 -0400 (Wed, 16 Jul 2025) EndedAt: 2025-07-16 15:06:58 -0400 (Wed, 16 Jul 2025) EllapsedTime: 20.8 seconds RetCode: 0 Status: OK