Package: PCAN Version: 1.37.0 Command: /Library/Frameworks/R.framework/Resources/bin/R CMD check --install=check:PCAN.install-out.txt --library=/Library/Frameworks/R.framework/Resources/library --no-vignettes --timings PCAN_1.37.0.tar.gz StartedAt: 2025-07-17 22:31:59 -0400 (Thu, 17 Jul 2025) EndedAt: 2025-07-17 22:36:22 -0400 (Thu, 17 Jul 2025) EllapsedTime: 262.8 seconds RetCode: 0 Status: OK CheckDir: PCAN.Rcheck Warnings: 0