Package: PCAN Version: 1.37.0 Command: /Library/Frameworks/R.framework/Resources/bin/R CMD build --keep-empty-dirs --no-resave-data PCAN StartedAt: 2025-07-16 17:59:19 -0400 (Wed, 16 Jul 2025) EndedAt: 2025-07-16 18:01:01 -0400 (Wed, 16 Jul 2025) EllapsedTime: 102.0 seconds RetCode: 0 Status: OK PackageFile: PCAN_1.37.0.tar.gz PackageFileSize: 2.564 MiB