Package: PAST Version: 1.25.0 Command: /home/biocbuild/R/R/bin/R CMD INSTALL PAST StartedAt: 2025-07-17 20:38:13 -0000 (Thu, 17 Jul 2025) EndedAt: 2025-07-17 20:38:57 -0000 (Thu, 17 Jul 2025) EllapsedTime: 44.4 seconds RetCode: 0 Status: OK