Package: PAST Version: 1.25.0 Command: /home/biocbuild/R/R/bin/R CMD check --install=check:PAST.install-out.txt --library=/home/biocbuild/R/R/site-library --no-vignettes --timings PAST_1.25.0.tar.gz StartedAt: 2025-07-18 09:44:11 -0000 (Fri, 18 Jul 2025) EndedAt: 2025-07-18 09:54:51 -0000 (Fri, 18 Jul 2025) EllapsedTime: 639.8 seconds RetCode: 0 Status: WARNINGS CheckDir: PAST.Rcheck Warnings: 2