Package: PAST Version: 1.25.0 Command: F:\biocbuild\bbs-3.22-bioc\R\bin\R.exe CMD INSTALL PAST StartedAt: 2025-07-14 16:25:10 -0400 (Mon, 14 Jul 2025) EndedAt: 2025-07-14 16:25:55 -0400 (Mon, 14 Jul 2025) EllapsedTime: 44.8 seconds RetCode: 0 Status: OK