Package: PAST Version: 1.25.0 Command: rm -rf PAST.buildbin-libdir && mkdir PAST.buildbin-libdir && F:\biocbuild\bbs-3.22-bioc\R\bin\R.exe CMD INSTALL --build --library=PAST.buildbin-libdir PAST_1.25.0.tar.gz StartedAt: 2025-07-15 09:35:06 -0400 (Tue, 15 Jul 2025) EndedAt: 2025-07-15 09:35:44 -0400 (Tue, 15 Jul 2025) EllapsedTime: 38.3 seconds RetCode: 0 Status: OK PackageFile: PAST_1.25.0.zip PackageFileSize: 1013 KiB