Package: PAST Version: 1.25.0 Command: /Library/Frameworks/R.framework/Resources/bin/R CMD check --install=check:PAST.install-out.txt --library=/Library/Frameworks/R.framework/Resources/library --no-vignettes --timings PAST_1.25.0.tar.gz StartedAt: 2025-07-18 22:28:16 -0400 (Fri, 18 Jul 2025) EndedAt: 2025-07-18 22:37:28 -0400 (Fri, 18 Jul 2025) EllapsedTime: 552.3 seconds RetCode: 0 Status: WARNINGS CheckDir: PAST.Rcheck Warnings: 2