Package: PAST Version: 1.25.0 Command: rm -rf PAST.buildbin-libdir && mkdir PAST.buildbin-libdir && /Users/biocbuild/BBS/utils/build-universal.sh PAST_1.25.0.tar.gz /Library/Frameworks/R.framework/Resources/bin/R PAST.buildbin-libdir StartedAt: 2025-07-19 01:03:24 -0400 (Sat, 19 Jul 2025) EndedAt: 2025-07-19 01:04:12 -0400 (Sat, 19 Jul 2025) EllapsedTime: 47.4 seconds RetCode: 0 Status: OK PackageFile: PAST_1.25.0.tgz PackageFileSize: 1008 KiB