Package: PAST Version: 1.25.0 Command: /Library/Frameworks/R.framework/Resources/bin/R CMD check --install=check:PAST.install-out.txt --library=/Library/Frameworks/R.framework/Resources/library --no-vignettes --timings PAST_1.25.0.tar.gz StartedAt: 2025-07-21 20:42:49 -0400 (Mon, 21 Jul 2025) EndedAt: 2025-07-21 20:45:29 -0400 (Mon, 21 Jul 2025) EllapsedTime: 159.9 seconds RetCode: 0 Status: WARNINGS CheckDir: PAST.Rcheck Warnings: 2