Package: PAST Version: 1.25.0 Command: rm -rf PAST.buildbin-libdir && mkdir PAST.buildbin-libdir && /Users/biocbuild/BBS/utils/build-universal.sh PAST_1.25.0.tar.gz /Library/Frameworks/R.framework/Resources/bin/R PAST.buildbin-libdir StartedAt: 2025-07-20 22:36:01 -0400 (Sun, 20 Jul 2025) EndedAt: 2025-07-20 22:36:15 -0400 (Sun, 20 Jul 2025) EllapsedTime: 14.4 seconds RetCode: 0 Status: OK PackageFile: PAST_1.25.0.tgz PackageFileSize: 1009 KiB