Package: PAST Version: 1.25.0 Maintainer: Thrash Adam MaintainerEmail: thrash at igbb.msstate.edu git_url: https://git.bioconductor.org/packages/PAST git_branch: devel git_last_commit: a1079de git_last_commit_date: 2025-04-15 11:46:41 -0400 (Tue, 15 Apr 2025)