Package: PANR Version: 1.55.0 Command: /home/biocbuild/R/R/bin/R CMD INSTALL PANR StartedAt: 2025-07-24 21:03:35 -0000 (Thu, 24 Jul 2025) EndedAt: 2025-07-24 21:04:33 -0000 (Thu, 24 Jul 2025) EllapsedTime: 58.2 seconds RetCode: 0 Status: OK