Package: PAIRADISE Version: 1.25.0 Command: /home/biocbuild/R/R/bin/R CMD INSTALL PAIRADISE StartedAt: 2025-07-10 21:29:08 -0000 (Thu, 10 Jul 2025) EndedAt: 2025-07-10 21:29:35 -0000 (Thu, 10 Jul 2025) EllapsedTime: 26.6 seconds RetCode: 0 Status: OK