Package: PAIRADISE Version: 1.25.0 Command: chmod a+r PAIRADISE -R && F:\biocbuild\bbs-3.22-bioc\R\bin\R.exe CMD build --keep-empty-dirs --no-resave-data PAIRADISE StartedAt: 2025-07-20 20:58:10 -0400 (Sun, 20 Jul 2025) EndedAt: 2025-07-20 20:59:01 -0400 (Sun, 20 Jul 2025) EllapsedTime: 51.2 seconds RetCode: 0 Status: OK PackageFile: PAIRADISE_1.25.0.tar.gz PackageFileSize: 320.8 KiB