Package: PAIRADISE Version: 1.25.0 Command: rm -rf PAIRADISE.buildbin-libdir && mkdir PAIRADISE.buildbin-libdir && F:\biocbuild\bbs-3.22-bioc\R\bin\R.exe CMD INSTALL --build --library=PAIRADISE.buildbin-libdir PAIRADISE_1.25.0.tar.gz StartedAt: 2025-07-21 09:39:56 -0400 (Mon, 21 Jul 2025) EndedAt: 2025-07-21 09:40:23 -0400 (Mon, 21 Jul 2025) EllapsedTime: 27.6 seconds RetCode: 0 Status: OK PackageFile: PAIRADISE_1.25.0.zip PackageFileSize: 384.2 KiB