Package: PAIRADISE Version: 1.25.0 Command: /home/biocbuild/bbs-3.22-bioc/R/bin/R CMD check --install=check:PAIRADISE.install-out.txt --library=/home/biocbuild/bbs-3.22-bioc/R/site-library --timings PAIRADISE_1.25.0.tar.gz StartedAt: 2025-07-14 00:54:51 -0400 (Mon, 14 Jul 2025) EndedAt: 2025-07-14 00:59:43 -0400 (Mon, 14 Jul 2025) EllapsedTime: 292.4 seconds RetCode: 0 Status: OK CheckDir: PAIRADISE.Rcheck Warnings: 0