Package: PAIRADISE Version: 1.25.0 Command: /home/biocbuild/bbs-3.22-bioc/R/bin/R CMD build --keep-empty-dirs --no-resave-data --md5 PAIRADISE StartedAt: 2025-07-13 18:26:28 -0400 (Sun, 13 Jul 2025) EndedAt: 2025-07-13 18:27:25 -0400 (Sun, 13 Jul 2025) EllapsedTime: 57.1 seconds RetCode: 0 Status: OK PackageFile: PAIRADISE_1.25.0.tar.gz PackageFileSize: 322.1 KiB