Package: PAIRADISE Version: 1.25.0 Command: /Library/Frameworks/R.framework/Resources/bin/R CMD INSTALL PAIRADISE StartedAt: 2025-07-01 15:36:07 -0400 (Tue, 01 Jul 2025) EndedAt: 2025-07-01 15:36:36 -0400 (Tue, 01 Jul 2025) EllapsedTime: 28.7 seconds RetCode: 0 Status: OK