Package: PAIRADISE Version: 1.25.0 Command: /Library/Frameworks/R.framework/Resources/bin/R CMD check --install=check:PAIRADISE.install-out.txt --library=/Library/Frameworks/R.framework/Resources/library --no-vignettes --timings PAIRADISE_1.25.0.tar.gz StartedAt: 2025-07-01 22:33:42 -0400 (Tue, 01 Jul 2025) EndedAt: 2025-07-01 22:38:37 -0400 (Tue, 01 Jul 2025) EllapsedTime: 294.9 seconds RetCode: 0 Status: OK CheckDir: PAIRADISE.Rcheck Warnings: 0