Package: PAIRADISE Version: 1.25.0 Command: /Library/Frameworks/R.framework/Resources/bin/R CMD build --keep-empty-dirs --no-resave-data PAIRADISE StartedAt: 2025-07-01 18:00:16 -0400 (Tue, 01 Jul 2025) EndedAt: 2025-07-01 18:01:26 -0400 (Tue, 01 Jul 2025) EllapsedTime: 70.5 seconds RetCode: 0 Status: OK PackageFile: PAIRADISE_1.25.0.tar.gz PackageFileSize: 320.6 KiB