Package: PAIRADISE Version: 1.25.0 Command: rm -rf PAIRADISE.buildbin-libdir && mkdir PAIRADISE.buildbin-libdir && /Users/biocbuild/BBS/utils/build-universal.sh PAIRADISE_1.25.0.tar.gz /Library/Frameworks/R.framework/Resources/bin/R PAIRADISE.buildbin-libdir StartedAt: 2025-07-02 01:11:02 -0400 (Wed, 02 Jul 2025) EndedAt: 2025-07-02 01:11:32 -0400 (Wed, 02 Jul 2025) EllapsedTime: 30.1 seconds RetCode: 0 Status: OK PackageFile: PAIRADISE_1.25.0.tgz PackageFileSize: 382.3 KiB