Package: PAIRADISE Version: 1.25.0 Command: rm -rf PAIRADISE.buildbin-libdir && mkdir PAIRADISE.buildbin-libdir && /Users/biocbuild/BBS/utils/build-universal.sh PAIRADISE_1.25.0.tar.gz /Library/Frameworks/R.framework/Resources/bin/R PAIRADISE.buildbin-libdir StartedAt: 2025-07-16 22:28:06 -0400 (Wed, 16 Jul 2025) EndedAt: 2025-07-16 22:28:15 -0400 (Wed, 16 Jul 2025) EllapsedTime: 9.2 seconds RetCode: 0 Status: OK PackageFile: PAIRADISE_1.25.0.tgz PackageFileSize: 383.2 KiB