Package: PADOG Version: 1.51.0 Command: /home/biocbuild/R/R/bin/R CMD INSTALL PADOG StartedAt: 2025-06-30 20:48:08 -0000 (Mon, 30 Jun 2025) EndedAt: 2025-06-30 20:48:26 -0000 (Mon, 30 Jun 2025) EllapsedTime: 17.7 seconds RetCode: 0 Status: OK