Package: PADOG Version: 1.51.0 Command: /home/biocbuild/R/R/bin/R CMD check --install=check:PADOG.install-out.txt --library=/home/biocbuild/R/R/site-library --no-vignettes --timings PADOG_1.51.0.tar.gz StartedAt: 2025-07-01 10:11:14 -0000 (Tue, 01 Jul 2025) EndedAt: 2025-07-01 10:16:01 -0000 (Tue, 01 Jul 2025) EllapsedTime: 287.0 seconds RetCode: 0 Status: OK CheckDir: PADOG.Rcheck Warnings: 0