Package: PADOG Version: 1.51.0 Command: /home/biocbuild/R/R/bin/R CMD build --keep-empty-dirs --no-resave-data PADOG StartedAt: 2025-07-01 01:41:57 -0000 (Tue, 01 Jul 2025) EndedAt: 2025-07-01 01:44:45 -0000 (Tue, 01 Jul 2025) EllapsedTime: 168.4 seconds RetCode: 0 Status: OK PackageFile: PADOG_1.51.0.tar.gz PackageFileSize: 359.4 KiB