Package: PADOG Version: 1.51.0 Command: chmod a+r PADOG -R && F:\biocbuild\bbs-3.22-bioc\R\bin\R.exe CMD build --keep-empty-dirs --no-resave-data PADOG StartedAt: 2025-07-16 20:57:27 -0400 (Wed, 16 Jul 2025) EndedAt: 2025-07-16 21:00:23 -0400 (Wed, 16 Jul 2025) EllapsedTime: 176.1 seconds RetCode: 0 Status: OK PackageFile: PADOG_1.51.0.tar.gz PackageFileSize: 237.1 KiB