Package: PADOG Version: 1.51.0 Command: /Library/Frameworks/R.framework/Resources/bin/R CMD build --keep-empty-dirs --no-resave-data PADOG StartedAt: 2025-07-15 17:08:24 -0400 (Tue, 15 Jul 2025) EndedAt: 2025-07-15 17:09:29 -0400 (Tue, 15 Jul 2025) EllapsedTime: 64.8 seconds RetCode: 0 Status: OK PackageFile: PADOG_1.51.0.tar.gz PackageFileSize: 369.1 KiB