Package: PAA Version: 1.43.0 Command: /home/biocbuild/R/R/bin/R CMD INSTALL PAA StartedAt: 2025-07-21 21:07:54 -0000 (Mon, 21 Jul 2025) EndedAt: 2025-07-21 21:08:46 -0000 (Mon, 21 Jul 2025) EllapsedTime: 52.3 seconds RetCode: 0 Status: OK