Package: PAA Version: 1.43.0 Command: /home/biocbuild/R/R/bin/R CMD check --install=check:PAA.install-out.txt --library=/home/biocbuild/R/R/site-library --no-vignettes --timings PAA_1.43.0.tar.gz StartedAt: 2025-07-22 10:09:18 -0000 (Tue, 22 Jul 2025) EndedAt: 2025-07-22 10:13:55 -0000 (Tue, 22 Jul 2025) EllapsedTime: 276.8 seconds RetCode: 0 Status: OK CheckDir: PAA.Rcheck Warnings: 0