Package: PAA Version: 1.43.0 Command: /home/biocbuild/R/R/bin/R CMD build --keep-empty-dirs --no-resave-data PAA StartedAt: 2025-07-22 01:44:10 -0000 (Tue, 22 Jul 2025) EndedAt: 2025-07-22 01:47:36 -0000 (Tue, 22 Jul 2025) EllapsedTime: 205.4 seconds RetCode: 0 Status: OK PackageFile: PAA_1.43.0.tar.gz PackageFileSize: 3.973 MiB