Package: PAA Version: 1.43.0 Command: /home/biocbuild/bbs-3.22-bioc/R/bin/R CMD check --install=check:PAA.install-out.txt --library=/home/biocbuild/bbs-3.22-bioc/R/site-library --timings PAA_1.43.0.tar.gz StartedAt: 2025-07-03 01:06:17 -0400 (Thu, 03 Jul 2025) EndedAt: 2025-07-03 01:12:48 -0400 (Thu, 03 Jul 2025) EllapsedTime: 391.5 seconds RetCode: 0 Status: OK CheckDir: PAA.Rcheck Warnings: 0