Package: PAA Version: 1.43.0 Command: /Library/Frameworks/R.framework/Resources/bin/R CMD build --keep-empty-dirs --no-resave-data PAA StartedAt: 2025-07-14 17:57:37 -0400 (Mon, 14 Jul 2025) EndedAt: 2025-07-14 18:01:21 -0400 (Mon, 14 Jul 2025) EllapsedTime: 224.3 seconds RetCode: 0 Status: OK PackageFile: PAA_1.43.0.tar.gz PackageFileSize: 3.741 MiB