Package: PAA Version: 1.43.0 Command: /Library/Frameworks/R.framework/Resources/bin/R CMD check --install=check:PAA.install-out.txt --library=/Library/Frameworks/R.framework/Resources/library --no-vignettes --timings PAA_1.43.0.tar.gz StartedAt: 2025-07-21 20:40:28 -0400 (Mon, 21 Jul 2025) EndedAt: 2025-07-21 20:41:39 -0400 (Mon, 21 Jul 2025) EllapsedTime: 70.8 seconds RetCode: 0 Status: OK CheckDir: PAA.Rcheck Warnings: 0