Package: PAA Version: 1.43.0 Command: rm -rf PAA.buildbin-libdir && mkdir PAA.buildbin-libdir && /Users/biocbuild/BBS/utils/build-universal.sh PAA_1.43.0.tar.gz /Library/Frameworks/R.framework/Resources/bin/R PAA.buildbin-libdir StartedAt: 2025-07-20 22:35:48 -0400 (Sun, 20 Jul 2025) EndedAt: 2025-07-20 22:36:03 -0400 (Sun, 20 Jul 2025) EllapsedTime: 15.4 seconds RetCode: 0 Status: OK PackageFile: PAA_1.43.0.tgz PackageFileSize: 3.989 MiB