Package: OutSplice Version: 1.9.0 Command: /home/biocbuild/R/R/bin/R CMD check --install=check:OutSplice.install-out.txt --library=/home/biocbuild/R/R/site-library --no-vignettes --timings OutSplice_1.9.0.tar.gz StartedAt: 2025-07-01 10:09:51 -0000 (Tue, 01 Jul 2025) EndedAt: 2025-07-01 10:16:51 -0000 (Tue, 01 Jul 2025) EllapsedTime: 420.3 seconds RetCode: 0 Status: OK CheckDir: OutSplice.Rcheck Warnings: 0