Package: OutSplice Version: 1.9.0 Command: /Library/Frameworks/R.framework/Resources/bin/R CMD check --install=check:OutSplice.install-out.txt --library=/Library/Frameworks/R.framework/Resources/library --no-vignettes --timings OutSplice_1.9.0.tar.gz StartedAt: 2025-07-15 22:37:34 -0400 (Tue, 15 Jul 2025) EndedAt: 2025-07-15 22:45:16 -0400 (Tue, 15 Jul 2025) EllapsedTime: 462.3 seconds RetCode: 0 Status: OK CheckDir: OutSplice.Rcheck Warnings: 0