Package: Oscope Version: 1.39.0 Command: /home/biocbuild/R/R/bin/R CMD INSTALL Oscope StartedAt: 2025-06-30 20:26:07 -0000 (Mon, 30 Jun 2025) EndedAt: 2025-06-30 20:26:37 -0000 (Mon, 30 Jun 2025) EllapsedTime: 30.2 seconds RetCode: 0 Status: OK