Package: Oscope Version: 1.39.0 Command: /home/biocbuild/R/R/bin/R CMD check --install=check:Oscope.install-out.txt --library=/home/biocbuild/R/R/site-library --no-vignettes --timings Oscope_1.39.0.tar.gz StartedAt: 2025-07-01 10:09:32 -0000 (Tue, 01 Jul 2025) EndedAt: 2025-07-01 10:11:02 -0000 (Tue, 01 Jul 2025) EllapsedTime: 90.2 seconds RetCode: 0 Status: OK CheckDir: Oscope.Rcheck Warnings: 0