Package: Oscope Version: 1.39.0 Command: /home/biocbuild/R/R/bin/R CMD build --keep-empty-dirs --no-resave-data Oscope StartedAt: 2025-07-01 01:40:26 -0000 (Tue, 01 Jul 2025) EndedAt: 2025-07-01 01:43:43 -0000 (Tue, 01 Jul 2025) EllapsedTime: 196.6 seconds RetCode: 0 Status: OK PackageFile: Oscope_1.39.0.tar.gz PackageFileSize: 1.15 MiB