Package: Oscope Version: 1.39.0 Command: F:\biocbuild\bbs-3.22-bioc\R\bin\R.exe CMD check --no-multiarch --install=check:Oscope.install-out.txt --library=F:\biocbuild\bbs-3.22-bioc\R\library --no-vignettes --timings Oscope_1.39.0.tar.gz StartedAt: 2025-07-15 04:51:36 -0400 (Tue, 15 Jul 2025) EndedAt: 2025-07-15 04:53:13 -0400 (Tue, 15 Jul 2025) EllapsedTime: 96.9 seconds RetCode: 0 Status: OK CheckDir: Oscope.Rcheck Warnings: 0