Package: Oscope Version: 1.39.0 Command: chmod a+r Oscope -R && F:\biocbuild\bbs-3.22-bioc\R\bin\R.exe CMD build --keep-empty-dirs --no-resave-data Oscope StartedAt: 2025-07-14 20:57:39 -0400 (Mon, 14 Jul 2025) EndedAt: 2025-07-14 20:59:43 -0400 (Mon, 14 Jul 2025) EllapsedTime: 124.2 seconds RetCode: 0 Status: OK PackageFile: Oscope_1.39.0.tar.gz PackageFileSize: 1.161 MiB