Package: Oscope Version: 1.39.0 Command: rm -rf Oscope.buildbin-libdir && mkdir Oscope.buildbin-libdir && F:\biocbuild\bbs-3.22-bioc\R\bin\R.exe CMD INSTALL --build --library=Oscope.buildbin-libdir Oscope_1.39.0.tar.gz StartedAt: 2025-07-15 09:34:00 -0400 (Tue, 15 Jul 2025) EndedAt: 2025-07-15 09:34:15 -0400 (Tue, 15 Jul 2025) EllapsedTime: 14.8 seconds RetCode: 0 Status: OK PackageFile: Oscope_1.39.0.zip PackageFileSize: 854.3 KiB