Package: Oscope Version: 1.39.0 Command: /Library/Frameworks/R.framework/Resources/bin/R CMD check --install=check:Oscope.install-out.txt --library=/Library/Frameworks/R.framework/Resources/library --no-vignettes --timings Oscope_1.39.0.tar.gz StartedAt: 2025-07-11 22:29:44 -0400 (Fri, 11 Jul 2025) EndedAt: 2025-07-11 22:31:09 -0400 (Fri, 11 Jul 2025) EllapsedTime: 84.8 seconds RetCode: 0 Status: OK CheckDir: Oscope.Rcheck Warnings: 0