Package: Oscope Version: 1.39.0 Command: rm -rf Oscope.buildbin-libdir && mkdir Oscope.buildbin-libdir && /Users/biocbuild/BBS/utils/build-universal.sh Oscope_1.39.0.tar.gz /Library/Frameworks/R.framework/Resources/bin/R Oscope.buildbin-libdir StartedAt: 2025-07-12 01:10:12 -0400 (Sat, 12 Jul 2025) EndedAt: 2025-07-12 01:10:23 -0400 (Sat, 12 Jul 2025) EllapsedTime: 11.7 seconds RetCode: 0 Status: OK PackageFile: Oscope_1.39.0.tgz PackageFileSize: 848.2 KiB